BEGIN:VCALENDAR
VERSION:2.0
PRODID:-//Café du Vieux Monde - ECPv6.11.2.1//NONSGML v1.0//EN
CALSCALE:GREGORIAN
METHOD:PUBLISH
X-WR-CALNAME:Café du Vieux Monde
X-ORIGINAL-URL:https://cafeduvieuxmonde.fr
X-WR-CALDESC:Évènements pour Café du Vieux Monde
REFRESH-INTERVAL;VALUE=DURATION:PT1H
X-Robots-Tag:noindex
X-PUBLISHED-TTL:PT1H
BEGIN:VTIMEZONE
TZID:Europe/Paris
BEGIN:DAYLIGHT
TZOFFSETFROM:+0100
TZOFFSETTO:+0200
TZNAME:CEST
DTSTART:20250330T010000
END:DAYLIGHT
BEGIN:STANDARD
TZOFFSETFROM:+0200
TZOFFSETTO:+0100
TZNAME:CET
DTSTART:20251026T010000
END:STANDARD
END:VTIMEZONE
BEGIN:VEVENT
DTSTART;TZID=Europe/Paris:20250426T000000
DTEND;TZID=Europe/Paris:20250427T235959
DTSTAMP:20260419T171654
CREATED:20241029T100817Z
LAST-MODIFIED:20241119T181750Z
UID:117-1745625600-1745798399@cafeduvieuxmonde.fr
SUMMARY:Breizh Bowl XV - Blood Bowl
DESCRIPTION:15ème édition du Breizh Bowl – Blood Bowl  \n\n\n\n(Le bouton  » Se préinscrire » renvoie vers la page du tournoi sur le site https://teamfrancebb.1fr1.net/) \n\n\n\nPour cet évènement\, c’est l’association organisatrice (Acryosis pour la Breizh Bloodbowl Association) et non le Café du Vieux Monde qui prend en charge le paiement des inscriptions. \n\n\n\nOuverture des inscriptions en janvier mais vous pouvez déjà vous préinscrire.
URL:https://cafeduvieuxmonde.fr/calendrier/breizh-bowl-xv/
CATEGORIES:Blood Bowl,Tournoi
ATTACH;FMTTYPE=image/png:https://cafeduvieuxmonde.fr/wp-content/uploads/2024/10/breizh.png
END:VEVENT
END:VCALENDAR